BEGIN:VCALENDAR
VERSION:2.0
PRODID:-//Date iCal//NONSGML kigkonsult.se iCalcreator 2.20.2//
METHOD:PUBLISH
X-WR-CALNAME;VALUE=TEXT:seminare
BEGIN:VTIMEZONE
TZID:Europe/Bratislava
BEGIN:STANDARD
DTSTART:20261025T030000
TZOFFSETFROM:+0200
TZOFFSETTO:+0100
TZNAME:CET
END:STANDARD
BEGIN:DAYLIGHT
DTSTART:20260329T020000
TZOFFSETFROM:+0100
TZOFFSETTO:+0200
RDATE:20270328T020000
TZNAME:CEST
END:DAYLIGHT
END:VTIMEZONE
BEGIN:VEVENT
UID:calendar.2339.field_date.0@www.centrumzajezova.sk
DTSTAMP:20260425T162610Z
CREATED:20260309T183423Z
DESCRIPTION:Víkend pre maminky s dcérkami od 6 rokov do?\n(dokedy s vami eš
 te budú ochotné ísť)\nJedinečný čas pre mamu a dcéru.\nV tanci\, v speve\,
  v tvorbe\, túlaní sa po lúkach a spoznávaní bylín\na ich liečivých účinko
 v na naše telo i dušu.\n\nBylinkárka Miroslava Bužeková vás naučí rozpozná
 vať bylinky\nna lúke vo voľnej prírode\, ale aj ako si ich pestovať
DTSTART;TZID=Europe/Bratislava:20260828T000000
DTEND;TZID=Europe/Bratislava:20260830T000000
LAST-MODIFIED:20260309T190935Z
SUMMARY:“BYLINKY\, MAMINKY A DCÉRENKY”
URL;TYPE=URI:https://www.centrumzajezova.sk/seminare/bylinky-maminky-dceren
 ky-3
END:VEVENT
END:VCALENDAR
