BEGIN:VCALENDAR
VERSION:2.0
PRODID:-//Date iCal//NONSGML kigkonsult.se iCalcreator 2.20.2//
METHOD:PUBLISH
X-WR-CALNAME;VALUE=TEXT:seminare
BEGIN:VTIMEZONE
TZID:Europe/Bratislava
BEGIN:STANDARD
DTSTART:20261025T030000
TZOFFSETFROM:+0200
TZOFFSETTO:+0100
TZNAME:CET
END:STANDARD
BEGIN:DAYLIGHT
DTSTART:20260329T020000
TZOFFSETFROM:+0100
TZOFFSETTO:+0200
TZNAME:CEST
END:DAYLIGHT
END:VTIMEZONE
BEGIN:VEVENT
UID:calendar.2338.field_date.0@www.centrumzajezova.sk
DTSTAMP:20260425T163659Z
CREATED:20260309T182949Z
DESCRIPTION:S radosťou\nvás pozývam\nna BYLINKOVÚ VÍKENDOVKU \n\nNa víkendo
 vom bylinkovom kurze vás čaká:\n\n-  kopec bylinkových praktických znalost
 í aj zručností … a ako inak aj skvelej spoločnosti\n\n- spoznáme liečivé r
 astliny priamo na prechádzke lúkou\, lesom a záhradkou
DTSTART;TZID=Europe/Bratislava:20260710T000000
DTEND;TZID=Europe/Bratislava:20260712T000000
LAST-MODIFIED:20260309T182949Z
SUMMARY:Bylinková víkendovka
URL;TYPE=URI:https://www.centrumzajezova.sk/seminare/bylinkova-vikendovka-2
END:VEVENT
END:VCALENDAR
